BEGIN:VCALENDAR
VERSION:2.0
PRODID:-//wp-events-plugin.com//7.2.3.1//EN
TZID:America/Los_Angeles
X-WR-TIMEZONE:America/Los_Angeles
BEGIN:VEVENT
UID:507@santacruzflyfishing.org
DTSTART;TZID=America/Los_Angeles:20250201T170000
DTEND;TZID=America/Los_Angeles:20250201T210000
DTSTAMP:20250128T141754Z
URL:https://www.santacruzflyfishing.org/events/2025-scff-annual-fundraiser
 -feb-1st-5-9-pm/
SUMMARY:2025 SCFF Annual Fundraiser - Feb 1st\, 5-9 pm
DESCRIPTION: Wild Alaska Salmon will highlight the dinner and we will have 
 many prizes available for the raffle.  We are keeping the dinner affordabl
 e at $40/person and expect it to sell out early.   Click on  the article t
 o see who has  purchased tickets to the event.
ATTACH;FMTTYPE=image/jpeg:https://i0.wp.com/www.santacruzflyfishing.org/wp
 -content/uploads/2023/11/Big-Coho.jpg?fit=800%2C278&ssl=1
CATEGORIES:Club Activities
LOCATION:Pajaro Valley Rod and Gun Club\, 557-1/2 Lakeview Rd\, Watsonville
 \, CA\, 95076\, United States
GEO:36.9411;-121.730367
X-APPLE-STRUCTURED-LOCATION;VALUE=URI;X-ADDRESS=557-1/2 Lakeview Rd\, Watso
 nville\, CA\, 95076\, United States;X-APPLE-RADIUS=100;X-TITLE=Pajaro Vall
 ey Rod and Gun Club:geo:36.9411,-121.730367
END:VEVENT
BEGIN:VTIMEZONE
TZID:America/Los_Angeles
X-LIC-LOCATION:America/Los_Angeles
BEGIN:STANDARD
DTSTART:20241103T010000
TZOFFSETFROM:-0700
TZOFFSETTO:-0800
TZNAME:PST
END:STANDARD
END:VTIMEZONE
END:VCALENDAR