BEGIN:VCALENDAR
VERSION:2.0
PRODID:-//wp-events-plugin.com//7.2.3.1//EN
TZID:America/Los_Angeles
X-WR-TIMEZONE:America/Los_Angeles
BEGIN:VEVENT
UID:589@santacruzflyfishing.org
DTSTART;TZID=America/Los_Angeles:20250705T052000
DTEND;TZID=America/Los_Angeles:20250705T100000
DTSTAMP:20250701T043858Z
URL:https://www.santacruzflyfishing.org/events/beer-can-beach-surf-fishing
 /
SUMMARY:Beer Can Beach Surf Fishing - UPDATED -
DESCRIPTION:Date:  Saturday\, July 5\, 2025 at 5:20 am.\nLocation:  Beer Ca
 n Beach (AKA Summer Beach) - Staircase at 1191 Via Palo Alto\, Aptos  (no 
 bathrooms)\nFish Master: Scott Kitayama / scottkitayama@gmail.com\nSpecie
 s: Surf Perch\, Striped Bass\n\nMeet at 5:20AM.  Sunrise is at 5:53 and we
  are fishing a 3-foot tidal crest\, high tide being 8: 55AM.\n\nBreakfast 
 at Mike Lovejoy’s house\, 115 Driftwood Ct\, Aptos\,  please RSVP by Jul
 y 3rd to mikelovejoy94@gmail.com.  Coffee at 8:00am and breakfast served 
 8:30-9:30.  Park on the street.  Hot water available for hand wash.  Hos
 e available for rinsing equipment.
CATEGORIES:Fishouts
LOCATION:https://www.google.com/maps/place/Sumner+Beach/@36.9527517,-121.88
 61939,1094m/data=!3m2!1e3!4b1!4m6!3m5!1s0x808e16b8dab88d81:0xd27874b28ae9a
 047!8m2!3d36.952162!4d-121.8829436!16s%2Fg%2F11bx20tb0n?entry=ttu&g_ep=Ego
 yMDI1MDUxNS4wIKXMDSoASAFQAw%3D%3D
END:VEVENT
BEGIN:VTIMEZONE
TZID:America/Los_Angeles
X-LIC-LOCATION:America/Los_Angeles
BEGIN:DAYLIGHT
DTSTART:20250309T030000
TZOFFSETFROM:-0800
TZOFFSETTO:-0700
TZNAME:PDT
END:DAYLIGHT
END:VTIMEZONE
END:VCALENDAR