BEGIN:VCALENDAR
VERSION:2.0
PRODID:-//wp-events-plugin.com//7.2.3.1//EN
TZID:America/Los_Angeles
X-WR-TIMEZONE:America/Los_Angeles
BEGIN:VEVENT
UID:686@santacruzflyfishing.org
DTSTART;TZID=America/Los_Angeles;VALUE=DATE:20260710
DTEND;TZID=America/Los_Angeles;VALUE=DATE:20260713
DTSTAMP:20260423T155920Z
URL:https://www.santacruzflyfishing.org/events/burney-around/
SUMMARY:CANCELED - Burney & Around
DESCRIPTION:Due to unforeseen circumstances\, this Fishout has been cancele
 d. Please stay tuned as there is a chance for rescheduling.\n\n\n\nFishmas
 ter:\nAlex Ferber\n\n\nLocation:\nLakes\, rivers and streams of the Burney
  area\n\n\nSpecies:\nTrout\n\n\nDate:\nJuly 10th-12th\n\n\nCost:\nNo Cost\
 n\n\nMeet Up:\nDate of Fishout TBD and subject to change due seasonal cond
 itions\n\nHat Creek Park off Hy 299 (See the map below). The park is appro
 ximately 10 minutes from the highway 299/80 junction. The park is on the l
 eft hand side going east on 299. If you google Hat Creek Park\, it should 
 show up.\n\nThis meet up will be a general discussion with your Fishmaster
  Alex Ferber. Here he will be discussing the local fishery\, access points
 \, general information and answering any questions you might have about ma
 king this a successful outing.\n\nMeeting time to be updated as we get clo
 ser\n\n\nEquipment:\nTypical Trout Set Up 9'\, 4-6wt Rods w/ Floating Line
 s Ideal\n\n\n\nEuro Nymphing\, and Trout Spey conditions available\n\n\n\n
 Nymphs: Pheasant Tail\, Hairs Ear\, Prince Nymph\, Wooly Buggers\, Perdigo
 n\, Copper Johns\, Zebra Midge\, Micro May\, Golden Stones\n\n\n\nDrys: Ca
 ddis Patterns 12-16\, Upright wing vs. Emerges\, Missing Link\, Stone Flys
 \, Parachute Adams\, Comparaduns (various sizes 16-12)\n\n\n\nMisc.: Soft 
 Hackles\, Streamers\, Leaches\n\n\nWhat To Expect:\nThis Fishout is DIY Fi
 shout with your Fishmaster acting as a resource person helping with any qu
 estions regarding where to fish\, access\, use of personal watercraft\, fi
 shery history\, etc. Depending on interest there is potential of a pre Fis
 hout presentation (TBD) and or tour of any one of the local areas with the
  most interest.\n\nMore information to be updated as interest develops. Pl
 ease contact the Fishmaster if you are interested in attending.\n\n\nLocal
  Waters:\nHat Creek: Spring creek with plenty of easy access\, walk and w
 ading. There are 3 distict sections from the Power House Riffle\, to The L
 ower Freestone Section. There are an abundence of hatches year round and d
 aily from mayflies\, caddis\, and stone flies with the potential of a tric
 o or green drake hatch.\n\nBurney Creek: Spring creek with access around 
 the McArthur Burney Falls State Park. The waterfall is a must see. This is
  great water for a dry/dropper set up as well as traditional dry and nymph
  fishing. Above the falls the creek is stocked and below the fish are wild
 .\n\nPit River: Classic tailwater freestone fishery. This river is known f
 or its hard fighting wild rainbows. There is great walk and wade access bu
 t the terrain is difficult with large snot covered bowling balls covering 
 the river bed. Those with strong wading skills and a stout wading stick on
 ly need apply.  The river is broken up by multiple power houses each with
  their own characters. Primary a nymphing river either by indicator or tig
 ht line. Rubber legs and dark lords and lots of weight (bring lots of both
 ).\n\nBaum Lake: Stocked and great for a small float tube or kayak. Excel
 lent dry fly and streamer fishing.\n\nLake Britton: Primarily a motorized 
 boat lake. Warm water fishery with small mouth bass\, and potential for bu
 ll trout.\n\n Ahjumawi / Big Lake Lava Springs State Park: Launch at "Rat
  Farm"\n\nFall River: Iconic spring creek with an abundance of large wild
  rainbows. No shore access. Non motorized boats can be launched at the Cal
  Trout public access or a kayak/motor boat at the "Rat Farm" (Big Lake/Ahj
 jumawi launch). Awesome dry fly\, streamer and indicator fishing.\n\n\nLod
 ging:\nCamping  - Too many to list\, this is an outdoors paridise with op
 tions from unimproved to glamping. Plenty of places for RV hookups and KOA
  camping\n\n\n\nHotels &amp\; Motels: Various options available in the Bur
 ney area\n\n\nFood:\nDIY\, with potential of potluck as details emerge\n\n
 \nFishmaster Contact info:\nAlex Ferber\n\n\n\n831-419-0564\n\n\n\nalex.fe
 rber74@gmail.com\n\n\n\nhttps://sites.google.com/view/adventureflyfishings
 antacruz/home\n\n\nLinks:\nhttps://www.theflyshop.com/streamreport.html\n\
 n\n\nhttps://www.shastaangler.com/\n\n\n\nBurney Sporting Goods - 37427 CA
 -299\, Burney\, CA 96013\n\n\n\n\n\n\n\n\n\n\n\n&nbsp\;\n\n&nbsp\;\n\n\n\n
 \n\n\n\n\n\n
CATEGORIES:Fishouts
LOCATION:Hat Creek Park\, CA\, XCGR+RQ Cassel\, California\, United States
GEO:40.977063;-121.558063
X-APPLE-STRUCTURED-LOCATION;VALUE=URI;X-ADDRESS=XCGR+RQ Cassel\, California
 \, United States;X-APPLE-RADIUS=100;X-TITLE=Hat Creek Park\, CA:geo:40.977
 063,-121.558063
END:VEVENT
BEGIN:VTIMEZONE
TZID:America/Los_Angeles
X-LIC-LOCATION:America/Los_Angeles
BEGIN:DAYLIGHT
DTSTART:20260308T030000
TZOFFSETFROM:-0800
TZOFFSETTO:-0700
TZNAME:PDT
END:DAYLIGHT
END:VTIMEZONE
END:VCALENDAR