BEGIN:VCALENDAR
VERSION:2.0
PRODID:-//wp-events-plugin.com//7.2.3.1//EN
TZID:America/Los_Angeles
X-WR-TIMEZONE:America/Los_Angeles
BEGIN:VEVENT
UID:368@santacruzflyfishing.org
DTSTART;TZID=America/Los_Angeles:20231021T073000
DTEND;TZID=America/Los_Angeles:20231021T110000
DTSTAMP:20231020T044950Z
URL:https://www.santacruzflyfishing.org/events/clinic-for-forebay-beginner
 s/
SUMMARY:CANCELLED - Clinic for Forebay beginners - Oct. 21st
DESCRIPTION:Going to have a clinic for club members who have fished from a 
 float tube before\, but have not fished the Forebay for Stripers. To get i
 n the class\, you MUST contact scottkitayama@gmail.com. Class will be limi
 ted to about 10 people and I am also inviting some people from the Salinas
  Valley fish club.\n  -Click the title link to read more- 
CATEGORIES:Instruction
END:VEVENT
BEGIN:VTIMEZONE
TZID:America/Los_Angeles
X-LIC-LOCATION:America/Los_Angeles
BEGIN:DAYLIGHT
DTSTART:20230312T030000
TZOFFSETFROM:-0800
TZOFFSETTO:-0700
TZNAME:PDT
END:DAYLIGHT
END:VTIMEZONE
END:VCALENDAR