BEGIN:VCALENDAR
VERSION:2.0
PRODID:-//wp-events-plugin.com//7.2.3.1//EN
TZID:America/Los_Angeles
X-WR-TIMEZONE:America/Los_Angeles
BEGIN:VEVENT
UID:96@santacruzflyfishing.org
DTSTART;TZID=America/Los_Angeles:20240103T190000
DTEND;TZID=America/Los_Angeles:20240103T210000
DTSTAMP:20240101T011216Z
URL:https://www.santacruzflyfishing.org/events/club-meeting-2024-01-03/
SUMMARY:Club Meeting
DESCRIPTION:Click here to see current month club meeting program
CATEGORIES:Monthly Meeting
LOCATION:Aptos Grange\, 2555 Mar Vista Drive\, Aptos\, CA\, 95003\, United 
 States
GEO:36.982026;-121.917577
X-APPLE-STRUCTURED-LOCATION;VALUE=URI;X-ADDRESS=2555 Mar Vista Drive\, Apto
 s\, CA\, 95003\, United States;X-APPLE-RADIUS=100;X-TITLE=Aptos Grange:geo
 :36.982026,-121.917577
END:VEVENT
BEGIN:VTIMEZONE
TZID:America/Los_Angeles
X-LIC-LOCATION:America/Los_Angeles
BEGIN:STANDARD
DTSTART:20231105T010000
TZOFFSETFROM:-0700
TZOFFSETTO:-0800
TZNAME:PST
END:STANDARD
END:VTIMEZONE
END:VCALENDAR