BEGIN:VCALENDAR
VERSION:2.0
PRODID:-//wp-events-plugin.com//7.2.3.1//EN
TZID:America/Los_Angeles
X-WR-TIMEZONE:America/Los_Angeles
BEGIN:VEVENT
UID:245@santacruzflyfishing.org
DTSTART;TZID=America/Los_Angeles:20210414T183000
DTEND;TZID=America/Los_Angeles:20210414T203000
DTSTAMP:20210328T041737Z
URL:https://www.santacruzflyfishing.org/events/deschutes-caddis/
SUMMARY:Deschutes Caddis
DESCRIPTION:Target Fish:  trout.\n\nInstructor: Elaine Cook\nZoom link is 
 in the menu of the web page www.santacruzflyfishing.org
ATTACH;FMTTYPE=image/jpeg:https://i0.wp.com/www.santacruzflyfishing.org/wp
 -content/uploads/2021/03/image3-scaled.jpeg?fit=2560%2C1912&ssl=1
CATEGORIES:Fly Tying Classes
END:VEVENT
BEGIN:VTIMEZONE
TZID:America/Los_Angeles
X-LIC-LOCATION:America/Los_Angeles
BEGIN:DAYLIGHT
DTSTART:20210314T030000
TZOFFSETFROM:-0800
TZOFFSETTO:-0700
TZNAME:PDT
END:DAYLIGHT
END:VTIMEZONE
END:VCALENDAR