BEGIN:VCALENDAR
VERSION:2.0
PRODID:-//wp-events-plugin.com//7.2.3.1//EN
TZID:America/Los_Angeles
X-WR-TIMEZONE:America/Los_Angeles
BEGIN:VEVENT
UID:300@santacruzflyfishing.org
DTSTART;TZID=America/Los_Angeles:20220810T063000
DTEND;TZID=America/Los_Angeles:20220810T090000
DTSTAMP:20220421T194626Z
URL:https://www.santacruzflyfishing.org/events/fluke-fly-aug-fly-tying/
SUMMARY:Fluke Fly - Aug Fly tying
DESCRIPTION:Greg Foy\, Instructor - Fluke Fly is a jig to target Black Bass
  and Sunfish
ATTACH;FMTTYPE=image/jpeg:https://i0.wp.com/www.santacruzflyfishing.org/wp
 -content/uploads/2022/04/IMG_1723-1-scaled.jpg?fit=2560%2C1865&ssl=1
CATEGORIES:Fly Tying Classes
LOCATION:Aptos Grange\, 2555 Mar Vista Drive\, Aptos\, CA\, 95003\, United 
 States
GEO:36.982026;-121.917577
X-APPLE-STRUCTURED-LOCATION;VALUE=URI;X-ADDRESS=2555 Mar Vista Drive\, Apto
 s\, CA\, 95003\, United States;X-APPLE-RADIUS=100;X-TITLE=Aptos Grange:geo
 :36.982026,-121.917577
END:VEVENT
BEGIN:VTIMEZONE
TZID:America/Los_Angeles
X-LIC-LOCATION:America/Los_Angeles
BEGIN:DAYLIGHT
DTSTART:20220313T030000
TZOFFSETFROM:-0800
TZOFFSETTO:-0700
TZNAME:PDT
END:DAYLIGHT
END:VTIMEZONE
END:VCALENDAR