BEGIN:VCALENDAR
VERSION:2.0
PRODID:-//wp-events-plugin.com//7.2.3.1//EN
TZID:America/Los_Angeles
X-WR-TIMEZONE:America/Los_Angeles
BEGIN:VEVENT
UID:645@santacruzflyfishing.org
DTSTART;TZID=America/Los_Angeles:20251210T183000
DTEND;TZID=America/Los_Angeles:20251210T203000
DTSTAMP:20251202T231406Z
URL:https://www.santacruzflyfishing.org/events/fly-tying-class-blood-leech
 /
SUMMARY:Fly Tying Class: Blood Leech
DESCRIPTION:This fly is great in Stillwater and can also be used in moving 
 water\, particularly swinging. We’ve had a lot of fairly challenging fli
 es lately in our classes\, but this one is easy to tie. So you beginners o
 ught to all come. As usual\, the classes are free and materials provided. 
 If you have black  6/0 thread please bring it. Their are vises and tools 
 for beginners to use and they are always welcome. Please sign up at the cl
 ub meeting or call me at 831-234-6515 with at least 24 hours notice.\n\n&n
 bsp\;
ATTACH;FMTTYPE=image/jpeg:https://i0.wp.com/www.santacruzflyfishing.org/wp
 -content/uploads/2025/11/IMG_2323.jpg?fit=1632%2C1224&ssl=1
CATEGORIES:Fly Tying Classes
END:VEVENT
BEGIN:VTIMEZONE
TZID:America/Los_Angeles
X-LIC-LOCATION:America/Los_Angeles
BEGIN:STANDARD
DTSTART:20251102T010000
TZOFFSETFROM:-0700
TZOFFSETTO:-0800
TZNAME:PST
END:STANDARD
END:VTIMEZONE
END:VCALENDAR