BEGIN:VCALENDAR
VERSION:2.0
PRODID:-//wp-events-plugin.com//7.2.3.1//EN
TZID:America/Los_Angeles
X-WR-TIMEZONE:America/Los_Angeles
BEGIN:VEVENT
UID:306@santacruzflyfishing.org
DTSTART;TZID=America/Los_Angeles:20220914T181500
DTEND;TZID=America/Los_Angeles:20220914T203000
DTSTAMP:20220822T155924Z
URL:https://www.santacruzflyfishing.org/events/foam-run-caddis/
SUMMARY:Foam Run Caddis
DESCRIPTION:A simple great drive fly pattern for this month.
ATTACH;FMTTYPE=image/jpeg:https://i0.wp.com/www.santacruzflyfishing.org/wp
 -content/uploads/2022/06/foam_run_caddis.jpg?fit=774%2C522&ssl=1
CATEGORIES:Fly Tying Classes
END:VEVENT
BEGIN:VTIMEZONE
TZID:America/Los_Angeles
X-LIC-LOCATION:America/Los_Angeles
BEGIN:DAYLIGHT
DTSTART:20220313T030000
TZOFFSETFROM:-0800
TZOFFSETTO:-0700
TZNAME:PDT
END:DAYLIGHT
END:VTIMEZONE
END:VCALENDAR