BEGIN:VCALENDAR
VERSION:2.0
PRODID:-//wp-events-plugin.com//7.2.3.1//EN
TZID:America/Los_Angeles
X-WR-TIMEZONE:America/Los_Angeles
BEGIN:VEVENT
UID:105@santacruzflyfishing.org
DTSTART;TZID=America/Los_Angeles:20201014T183000
DTEND;TZID=America/Los_Angeles:20201014T203000
DTSTAMP:20200919T021015Z
URL:https://www.santacruzflyfishing.org/events/green-flashy-clouser/
SUMMARY:Zebra and Tiger Midge
DESCRIPTION:Target Fish:  Trout\n\nInstructor: Elaine Cook\nZoom Meeting:
  https://us02web.zoom.us/j/87597787323\n\nMeeting ID: 875 9778 7323
CATEGORIES:Fly Tying Classes
LOCATION:https://us02web.zoom.us/j/87597787323%20%20
END:VEVENT
BEGIN:VTIMEZONE
TZID:America/Los_Angeles
X-LIC-LOCATION:America/Los_Angeles
BEGIN:DAYLIGHT
DTSTART:20200308T030000
TZOFFSETFROM:-0800
TZOFFSETTO:-0700
TZNAME:PDT
END:DAYLIGHT
END:VTIMEZONE
END:VCALENDAR