BEGIN:VCALENDAR
VERSION:2.0
PRODID:-//wp-events-plugin.com//7.2.3.1//EN
TZID:America/Los_Angeles
X-WR-TIMEZONE:America/Los_Angeles
BEGIN:VEVENT
UID:675@santacruzflyfishing.org
DTSTART;TZID=America/Los_Angeles:20260211T183000
DTEND;TZID=America/Los_Angeles:20260211T203000
DTSTAMP:20260121T173619Z
URL:https://www.santacruzflyfishing.org/events/guinea-hen-soft-tackle/
SUMMARY:Guinea Hen Soft Tackle
DESCRIPTION:This fly represents a number of aquatic insects as they are eme
 rging in the stream lake or pond. They are often used as if they are movin
 g in the water. The fly will be simple to tie. Beginners\, you are always 
 welcome and equipment is provided for you. As always all the materials are
  provided and if you have black 8/0 thread please bring it. Sign ups are i
 mportant so that we have enough material for everybody that attends. There
 fore sign up at the club meeting or call me at 831-234-6515 with at least 
 24 hours notice.\n\n&nbsp\;\n
ATTACH;FMTTYPE=image/jpeg:https://i0.wp.com/www.santacruzflyfishing.org/wp
 -content/uploads/2026/01/IMG_2363.jpg?fit=802%2C803&ssl=1
CATEGORIES:Fly Tying Classes
LOCATION:Aptos Grange\, 2555 Mar Vista Drive\, Aptos\, CA\, 95003\, United 
 States
GEO:36.982026;-121.917577
X-APPLE-STRUCTURED-LOCATION;VALUE=URI;X-ADDRESS=2555 Mar Vista Drive\, Apto
 s\, CA\, 95003\, United States;X-APPLE-RADIUS=100;X-TITLE=Aptos Grange:geo
 :36.982026,-121.917577
END:VEVENT
BEGIN:VTIMEZONE
TZID:America/Los_Angeles
X-LIC-LOCATION:America/Los_Angeles
BEGIN:STANDARD
DTSTART:20251102T010000
TZOFFSETFROM:-0700
TZOFFSETTO:-0800
TZNAME:PST
END:STANDARD
END:VTIMEZONE
END:VCALENDAR