BEGIN:VCALENDAR
VERSION:2.0
PRODID:-//wp-events-plugin.com//7.2.3.1//EN
TZID:America/Los_Angeles
X-WR-TIMEZONE:America/Los_Angeles
BEGIN:VEVENT
UID:375@santacruzflyfishing.org
DTSTART;TZID=America/Los_Angeles:20231007T140000
DTEND;TZID=America/Los_Angeles:20231007T160000
DTSTAMP:20231003T050540Z
URL:https://www.santacruzflyfishing.org/events/intro-to-spey-casting-part-
 1/
SUMMARY:Intro to Spey Casting - Part 1 Jade Park
DESCRIPTION: Spey Casting clinic will be Saturday's October 7\,14 and 21. 
 Spey Casting is a style of presenting a fly in a down and across manner ( 
 aka Swinging Flies)It utilizes special lines and facilitates casting in ti
 ght quarters.It enables one to use sinking lines and throwing larger flies
  with ease.  It's a technique used in fishing for Salmon\, tout and Steel
 head. It' also has been used for Striped Bass and Shad. The first class wo
 uld be ideal for those who have never casted a 2 handed rod. We will be le
 arning the basics of casting and I will talk about the lines and their app
 lications. It will be at the Jade St Park from 2-4 pm. We will meet on the
  lawn next to the Soccer field\, space permitting. I will supply rods. Rig
 ht now I have 2 people interested. I have enough rods for 6 folks.\n
CATEGORIES:Instruction
LOCATION:Jade Street Park baseball field\, 4400 Jade St\, Capitola\, CA\, 9
 5010\, United States
GEO:36.969389;-121.959555
X-APPLE-STRUCTURED-LOCATION;VALUE=URI;X-ADDRESS=4400 Jade St\, Capitola\, C
 A\, 95010\, United States;X-APPLE-RADIUS=100;X-TITLE=Jade Street Park base
 ball field:geo:36.969389,-121.959555
END:VEVENT
BEGIN:VTIMEZONE
TZID:America/Los_Angeles
X-LIC-LOCATION:America/Los_Angeles
BEGIN:DAYLIGHT
DTSTART:20230312T030000
TZOFFSETFROM:-0800
TZOFFSETTO:-0700
TZNAME:PDT
END:DAYLIGHT
END:VTIMEZONE
END:VCALENDAR