BEGIN:VCALENDAR
VERSION:2.0
PRODID:-//wp-events-plugin.com//7.2.3.1//EN
TZID:America/Los_Angeles
X-WR-TIMEZONE:America/Los_Angeles
BEGIN:VEVENT
UID:390@santacruzflyfishing.org
DTSTART;TZID=America/Los_Angeles:20240420T060000
DTEND;TZID=America/Los_Angeles:20240420T130000
DTSTAMP:20240326T025023Z
URL:https://www.santacruzflyfishing.org/events/kelly-lake-watsonville-bass
 -crappie-date-tbd/
SUMMARY:Kelly Lake - Watsonville (bass\, crappie)
DESCRIPTION:Updated March 25th\,  fish out if full.\n\n\n\nFishmaster:\nSc
 ott Kitayama\n\n\nLocation:\nKelly Lake in Watsonville (Private lake limit
 ed to 6 people)\n\n\nSpecies:\nbass\,  crappie\, bluegill\n\n\nDuration:\
 n1 day\n\n\nRegistration and Cost:\nNo Cost\, but you must contact Scott a
 s the number of people fishing is limited.  Contact at scottkitayama@gmai
 l.com.\n\nOn this Fishout\, priority will be given to new members (limited
  to 6 participants). The cutoff for "New member" registration is March 17t
 h. If all 6 spots have not been filled at this time the registration will 
 be open to all members.\n\nThis posting will be updated on the 18th of Mar
 ch\n\n\nMeeting time and place:\nScott will directly be in contact with th
 ose that are coming on the Fishout.\n\n\nEquipment:\nNeed to have float tu
 be or kayak to fish the lake.    PFD required and walkie talkie encourag
 ed.\n\n\n\n6 wt with intermediate line for stripping leaches or bait patte
 rns.\n\n6 or 7 wt floating line for poppers or float-n-fly\n\n\nFlies:\nTo
 pwater:  frog pattern\, sliders\,  gurglers\, poppers\n\nStripping:  bu
 nny leach\, midnight cowboy\, micro-clouser\n\nIndicator:  balanced leach
 \, crappie jigs\,  hares ear (sz 10 and larger)\n\n\nWhat To Expect:\nThi
 s is a private warm water lake in Watsonville. Surrounded by private resid
 ences and the Pajaro Rod &amp\; Gun Club. The club has gained access to th
 e water thru the Rod and Gun Club. Bass and Crappie are the predominant sp
 ecies here.\n\n\nFood:\nBring lunch\n\n\nFishmaster Contact info:\nScott K
 itayama\n\n650 279 5871\n\nscottkitayama@gmail.com\n\n\n\n&nbsp\;\n\n
ATTACH;FMTTYPE=image/jpeg:https://i0.wp.com/www.santacruzflyfishing.org/wp
 -content/uploads/2023/12/Kelly-Lake-a.jpg?fit=800%2C216&ssl=1
CATEGORIES:Fishouts
LOCATION:https://www.google.com/maps/place/Kelly+Lake/@36.9400625,-121.7406
 024,16z/data=!3m1!4b1!4m6!3m5!1s0x808e1b766b104db1:0x3eb259df770d7e92!8m2!
 3d36.9394132!4d-121.7359321!16s%2Fg%2F1hhhx85s0?entry=ttu
END:VEVENT
BEGIN:VTIMEZONE
TZID:America/Los_Angeles
X-LIC-LOCATION:America/Los_Angeles
BEGIN:DAYLIGHT
DTSTART:20240310T030000
TZOFFSETFROM:-0800
TZOFFSETTO:-0700
TZNAME:PDT
END:DAYLIGHT
END:VTIMEZONE
END:VCALENDAR