BEGIN:VCALENDAR
VERSION:2.0
PRODID:-//wp-events-plugin.com//7.2.3.1//EN
TZID:America/Los_Angeles
X-WR-TIMEZONE:America/Los_Angeles
BEGIN:VEVENT
UID:687@santacruzflyfishing.org
DTSTART;TZID=America/Los_Angeles:20260620T000000
DTEND;TZID=America/Los_Angeles:20260627T000000
DTSTAMP:20260309T233355Z
URL:https://www.santacruzflyfishing.org/events/lake-almanor-hex-hatch-jun-
 20th-27th-2026/
SUMMARY:Lake Almanor/Hex Hatch - Jun 20th - 27th 2026
DESCRIPTION:\n\nThe Lake Almanor Fishout is scheduled for June 20th thru 27
 th\, 2026. This time period is\, hopefully\, the peak of the annual Hexage
 nia hatch that begins generally mid-June and runs through mid-July. The mo
 st productive fishing takes place early evenings on into past dark between
  Lake Almanor West to Canyon Dam on the Southwest side of the lake. Most o
 f the fishing is done from float tubes as well as small boats or even from
  shore.\n\nIn addition to the evening "Hex" hatch\, a multitude of opportu
 nities exist for fishing throughout the day to include Little Crater Lake\
 , Manzanita Lake\, Baum Lake\, Eagle Lake\, Butt Valley Reservoir\, Deer C
 reek\, Clear Creek\, Feather River\, Yellow Creek\, plus many more.\n\nLod
 ging will be the responsibility of individual attendees. A popular campgro
 und operated by PG&amp\;E is the Rocky Point Campground\, for reservation 
 information call 916-386-5164. Many USFS campgrounds are in the area. Rese
 rvations are available through www.recreation.gov or by calling 877-444-67
 77. Make use of internet resources to acquire the actual campground names.
  There are also many resorts and rental cabins available in the area. A fe
 w examples are Wilson's Camp/530-259-2267 and Plumas Pines Resort/530-259-
 4343. Other options are available via online research. Be advised that due
  to the popularity of fishing at this time of year reservations fill up ea
 rly.\n\nOn Tuesday the 23th plan on breakfast with the club. Location TBD 
 as Carol's Café is under new ownership.\n\nSierra Fly and Tackle\, stores
  in Chester and Hamilton Branch\, is a great resource for current conditio
 ns and reports along with a large inventory flies and equipment. A must st
 op for all visiting fly fishers if only to get one of their cool tee-shirt
 s. Both first time and veteran "Hex" Anglers could well benefit from the e
 xpertise provided by a knowledgeable and experienced guide. Lance Gray (53
 0-517-2204) or Tim Loomis (831-345-8411) both offer instructional packages
  to help achieve success during the "Hex".\n\n\nFish Master - Tim Loomis\n
 Tim Loomis &lt\;bigsurstyles@att.net&gt\;\n\n\n\n\n\n
ATTACH;FMTTYPE=image/jpeg:https://i0.wp.com/www.santacruzflyfishing.org/wp
 -content/uploads/2022/08/20220614_163149.jpg?fit=1501%2C744&ssl=1
CATEGORIES:Fishouts
LOCATION:Rocky Point Campground\, Westwood\, CA 96137\, United States
GEO:40.306;-121.005793
X-APPLE-STRUCTURED-LOCATION;VALUE=URI;X-ADDRESS=Westwood\, CA 96137\, Unite
 d States;X-APPLE-RADIUS=100;X-TITLE=Rocky Point Campground:geo:40.306,-121
 .005793
END:VEVENT
BEGIN:VTIMEZONE
TZID:America/Los_Angeles
X-LIC-LOCATION:America/Los_Angeles
BEGIN:DAYLIGHT
DTSTART:20260308T030000
TZOFFSETFROM:-0800
TZOFFSETTO:-0700
TZNAME:PDT
END:DAYLIGHT
END:VTIMEZONE
END:VCALENDAR