BEGIN:VCALENDAR
VERSION:2.0
PRODID:-//wp-events-plugin.com//7.2.3.1//EN
TZID:America/Los_Angeles
X-WR-TIMEZONE:America/Los_Angeles
BEGIN:VEVENT
UID:369@santacruzflyfishing.org
DTSTART;TZID=America/Los_Angeles:20231011T183000
DTEND;TZID=America/Los_Angeles:20231011T203000
DTSTAMP:20230821T012915Z
URL:https://www.santacruzflyfishing.org/events/october-caddis-fly-tying-cl
 ass-2/
SUMMARY:October Caddis - Fly Tying Class
DESCRIPTION:All club members are welcome!
ATTACH;FMTTYPE=image/jpeg:https://i0.wp.com/www.santacruzflyfishing.org/wp
 -content/uploads/2023/08/oct_caddis.jpg?fit=2016%2C1512&ssl=1
CATEGORIES:Fly Tying Classes
LOCATION:Aptos Grange\, 2555 Mar Vista Drive\, Aptos\, CA\, 95003\, United 
 States
GEO:36.982026;-121.917577
X-APPLE-STRUCTURED-LOCATION;VALUE=URI;X-ADDRESS=2555 Mar Vista Drive\, Apto
 s\, CA\, 95003\, United States;X-APPLE-RADIUS=100;X-TITLE=Aptos Grange:geo
 :36.982026,-121.917577
END:VEVENT
BEGIN:VTIMEZONE
TZID:America/Los_Angeles
X-LIC-LOCATION:America/Los_Angeles
BEGIN:DAYLIGHT
DTSTART:20230312T030000
TZOFFSETFROM:-0800
TZOFFSETTO:-0700
TZNAME:PDT
END:DAYLIGHT
END:VTIMEZONE
END:VCALENDAR