BEGIN:VCALENDAR
VERSION:2.0
PRODID:-//wp-events-plugin.com//7.2.3.1//EN
TZID:America/Los_Angeles
X-WR-TIMEZONE:America/Los_Angeles
BEGIN:VEVENT
UID:688@santacruzflyfishing.org
DTSTART;TZID=America/Los_Angeles;VALUE=DATE:20260522
DTEND;TZID=America/Los_Angeles;VALUE=DATE:20260525
DTSTAMP:20260309T204230Z
URL:https://www.santacruzflyfishing.org/events/pit-river-camp-fishout/
SUMMARY:Pit River Camp Fishout
DESCRIPTION:Pit River Below Lake Brittan Dam\nFishmaster:\nAlex Ferber / al
 ex.ferber74@gmail.com\nLocation: \nPit River\,  close to Burney\, Califo
 rnia. The Pit river is located in the Shasta National Forest. Accessed vi
 a Hwy 299 and Hwy 89. Approximately 2 hrs east of Redding California\nLod
 ging:\nWe will be camping at Ruling Creek Campground PG &amp\; E Campgroun
 d - First come first serve ($15.00 daily cost subject to change). Located 
 on the Pit 4 reach\, below the Pit River 4 Dam. There are toilets\, and f
 ire rings. There usually is water available. The closest shopping is in Bu
 rney\, about 1 hr away.\nDescription of the River:\nThe Pit river is a tai
 lwater fishery\, freestone in nature. It is accessed via a frontage road\,
  maintained by PG and E. There is about 30 miles of river to explore. The 
 river is well known for its wild and hard fighting Rainbow trout. It is fi
 shed mainly using nymphs\, dead drifted under an indicator or using tight 
 line techniques. On occasion fish will take dry flies\, as well. These fis
 h are pound for pound some of the hardest fighting trout you will ever exp
 erience. This boulder strewn river is notorious for its challenging wading
 . The nymphing can be quite technical\, where getting good drifts will be 
 rewarded with some awesome hookups. Typically this river is not terribly p
 ressured. The river is in a beautiful\, remote\,wooded canyon\, with some 
 stunning views. The weather in May is very comfortable\, typically in the 
 70's.\nEquipment:\n9 ft\, 5-6 wt rods\, typically faster action work best.
  Typical nymph rig set ups\, with lots of split shot. Felt\, studded wadin
 g boots are essential. I would avoid rubber/Vibrum soles. This is a slippe
 ry river. This river has excellent Stoneflies\, Mayflies and Caddis\, so f
 lies mimicking these bugs usually work well.\nSkill Sets:\nStrong wading s
 kills are important. This river has tight quarters\, so having a strong ro
 ll cast\, and single spey casting techniques are very helpful in getting y
 ou bugs into position. There is some hiking\, but most of the river access
  is right along the river.\n\n\n\n\n
CATEGORIES:Fishouts
LOCATION:Ruling Creek Campground\, X6MC+C6 Big Bend\, California\, United S
 tates
GEO:40.983563;-121.779438
X-APPLE-STRUCTURED-LOCATION;VALUE=URI;X-ADDRESS=X6MC+C6 Big Bend\, Californ
 ia\, United States;X-APPLE-RADIUS=100;X-TITLE=Ruling Creek Campground:geo:
 40.983563,-121.779438
END:VEVENT
BEGIN:VTIMEZONE
TZID:America/Los_Angeles
X-LIC-LOCATION:America/Los_Angeles
BEGIN:DAYLIGHT
DTSTART:20260308T030000
TZOFFSETFROM:-0800
TZOFFSETTO:-0700
TZNAME:PDT
END:DAYLIGHT
END:VTIMEZONE
END:VCALENDAR