BEGIN:VCALENDAR
VERSION:2.0
PRODID:-//wp-events-plugin.com//7.2.3.1//EN
TZID:America/Los_Angeles
X-WR-TIMEZONE:America/Los_Angeles
BEGIN:VEVENT
UID:673@santacruzflyfishing.org
DTSTART;TZID=America/Los_Angeles:20260227T100000
DTEND;TZID=America/Los_Angeles:20260301T180000
DTSTAMP:20260123T055454Z
URL:https://www.santacruzflyfishing.org/events/pleasanton-fly-fishing-show
 -scff-booth-4/
SUMMARY:Pleasanton Fly Fishing Show - SCFF booth
DESCRIPTION:The Santa Cruz Fly Fishing club will have booth A4 at the Plea
 santon Fly Show.   Club members will be staffing the booth. Discounted s
 how tickets are available for current Santa Cruz Fly Fishing members.\n\n
ATTACH;FMTTYPE=image/jpeg:https://i0.wp.com/www.santacruzflyfishing.org/wp
 -content/uploads/2024/12/Fly-Fishing-Logo-Largest-Registered.jpg?fit=500%2
 C418&ssl=1
CATEGORIES:Club Activities
LOCATION:Alameda County Fairgrounds\, 4501 Pleasanton Avenue\, Pleasanton\,
  CA\, 94566\, United States
GEO:37.659819;-121.882181
X-APPLE-STRUCTURED-LOCATION;VALUE=URI;X-ADDRESS=4501 Pleasanton Avenue\, Pl
 easanton\, CA\, 94566\, United States;X-APPLE-RADIUS=100;X-TITLE=Alameda C
 ounty Fairgrounds:geo:37.659819,-121.882181
END:VEVENT
BEGIN:VTIMEZONE
TZID:America/Los_Angeles
X-LIC-LOCATION:America/Los_Angeles
BEGIN:STANDARD
DTSTART:20251102T010000
TZOFFSETFROM:-0700
TZOFFSETTO:-0800
TZNAME:PST
END:STANDARD
END:VTIMEZONE
END:VCALENDAR