BEGIN:VCALENDAR
VERSION:2.0
PRODID:-//wp-events-plugin.com//7.2.3.1//EN
TZID:America/Los_Angeles
X-WR-TIMEZONE:America/Los_Angeles
BEGIN:VEVENT
UID:677@santacruzflyfishing.org
DTSTART;TZID=America/Los_Angeles:20260315T120000
DTEND;TZID=America/Los_Angeles:20260315T160000
DTSTAMP:20260121T175504Z
URL:https://www.santacruzflyfishing.org/events/poppers-5/
SUMMARY:Poppers
DESCRIPTION:Spring is right around the corner and it’s time to start thin
 king about a fly to entice those largemouth bass. .  It’s not too early
  to sign up for this class that we do annually. There is limited space so 
 being committed to attending is very important. All materials will be prov
 ided. Beginners should attend at least one fly tying class prior in order 
 to be able to complete the poppers. In general it takes no particular skil
 l to make these beauties and it’s very artsy crafty. Please call if you 
 have any questions. 831-234-6515.
ATTACH;FMTTYPE=image/jpeg:https://i0.wp.com/www.santacruzflyfishing.org/wp
 -content/uploads/2026/01/IMG_2371.jpg?fit=1108%2C1108&ssl=1
CATEGORIES:Fly Tying Classes
LOCATION:Elaine's House\, \, United States
X-APPLE-STRUCTURED-LOCATION;VALUE=URI;X-ADDRESS=\, United States;X-APPLE-RA
 DIUS=100;X-TITLE=Elaine's House:geo:0,0
END:VEVENT
BEGIN:VTIMEZONE
TZID:America/Los_Angeles
X-LIC-LOCATION:America/Los_Angeles
BEGIN:DAYLIGHT
DTSTART:20260308T030000
TZOFFSETFROM:-0800
TZOFFSETTO:-0700
TZNAME:PDT
END:DAYLIGHT
END:VTIMEZONE
END:VCALENDAR