BEGIN:VCALENDAR
VERSION:2.0
PRODID:-//wp-events-plugin.com//7.2.3.1//EN
TZID:America/Los_Angeles
X-WR-TIMEZONE:America/Los_Angeles
BEGIN:VEVENT
UID:111@santacruzflyfishing.org
DTSTART;TZID=America/Los_Angeles;VALUE=DATE:20200531
DTEND;TZID=America/Los_Angeles;VALUE=DATE:20200601
DTSTAMP:20200429T213158Z
URL:https://www.santacruzflyfishing.org/events/quail-hollow-ranch/
SUMMARY:Quail Hollow Ranch- CANCELED
DESCRIPTION:Fly Fishing 101 Public Outreach Event\n\nFishmaster: Kevin Murd
 ock  troutdock89@gmail.com\n\nMore info»
CATEGORIES:Fishouts,Public Education
END:VEVENT
BEGIN:VTIMEZONE
TZID:America/Los_Angeles
X-LIC-LOCATION:America/Los_Angeles
BEGIN:DAYLIGHT
DTSTART:20200308T030000
TZOFFSETFROM:-0800
TZOFFSETTO:-0700
TZNAME:PDT
END:DAYLIGHT
END:VTIMEZONE
END:VCALENDAR