BEGIN:VCALENDAR
VERSION:2.0
PRODID:-//wp-events-plugin.com//7.2.3.1//EN
TZID:America/Los_Angeles
X-WR-TIMEZONE:America/Los_Angeles
BEGIN:VEVENT
UID:465@santacruzflyfishing.org
DTSTART;TZID=America/Los_Angeles:20240504T055500
DTEND;TZID=America/Los_Angeles:20240504T100000
DTSTAMP:20240324T231626Z
URL:https://www.santacruzflyfishing.org/events/rio-del-mar-state-beach-sur
 f-fishout-2/
SUMMARY:Rio Del Mar State Beach Surf Fishout
DESCRIPTION:First Surf Fishout of 2024!\nSaturday May 4th 2024 5:55AM\n\nLo
 cation: Rio Del Mar State Beach
ATTACH;FMTTYPE=image/jpeg:https://i0.wp.com/www.santacruzflyfishing.org/wp
 -content/uploads/2024/01/IMG_3957.jpg?fit=480%2C640&ssl=1
CATEGORIES:Fishouts
LOCATION:https://www.google.com/maps/place/439-433+Beach+Dr,+Aptos,+CA+9500
 3/@36.9633102,-121.8973502,406m/data=!3m2!1e3!4b1!4m14!1m7!3m6!1s0x808e168
 3b382920b:0x19a9d5d99837b4d8!2sRio+Del+Mar+Beach!8m2!3d36.9638043!4d-121.8
 981383!16s%2Fg%2F11bx25vsv7!3m5!1s0x808e16837e6bf96b:0xcf743430479ebbf0!8m
 2!3d36.9633102!4d-121.8962532!16s%2Fg%2F11c66lp76h
END:VEVENT
BEGIN:VTIMEZONE
TZID:America/Los_Angeles
X-LIC-LOCATION:America/Los_Angeles
BEGIN:DAYLIGHT
DTSTART:20240310T030000
TZOFFSETFROM:-0800
TZOFFSETTO:-0700
TZNAME:PDT
END:DAYLIGHT
END:VTIMEZONE
END:VCALENDAR