BEGIN:VCALENDAR
VERSION:2.0
PRODID:-//wp-events-plugin.com//7.2.3.1//EN
TZID:America/Los_Angeles
X-WR-TIMEZONE:America/Los_Angeles
BEGIN:VEVENT
UID:389@santacruzflyfishing.org
DTSTART;TZID=America/Los_Angeles:20240123T000000
DTEND;TZID=America/Los_Angeles:20240123T000000
DTSTAMP:20231220T013911Z
URL:https://www.santacruzflyfishing.org/events/spey-casting-class-time-and
 -location-tbd/
SUMMARY:Spey Casting Class (Time and Location TBD)
DESCRIPTION:A Spey casting class will be held on Tuesday\, January 23rd . 
  Alex Ferber would like this class to be open to those that have either ta
 ken one of his classes or for those that have some experience with Spey Ca
 sting with Skagit or Scandi.  This class will not be geared for complete 
 novices to Spey casting.  Keep an eye out for updates from Alex on Google
  Groups messages the time and location.  For those interested\, email Ale
 x (alex.ferber74@gmail.com) so he can get a rough estimate of those that w
 ill be attending.  The Jade St. map is provided in case the class takes p
 lace there.\n
CATEGORIES:Instruction
LOCATION:Jade Street Park baseball field\, 4400 Jade St\, Capitola\, CA\, 9
 5010\, United States
GEO:36.969389;-121.959555
X-APPLE-STRUCTURED-LOCATION;VALUE=URI;X-ADDRESS=4400 Jade St\, Capitola\, C
 A\, 95010\, United States;X-APPLE-RADIUS=100;X-TITLE=Jade Street Park base
 ball field:geo:36.969389,-121.959555
END:VEVENT
BEGIN:VTIMEZONE
TZID:America/Los_Angeles
X-LIC-LOCATION:America/Los_Angeles
BEGIN:STANDARD
DTSTART:20231105T010000
TZOFFSETFROM:-0700
TZOFFSETTO:-0800
TZNAME:PST
END:STANDARD
END:VTIMEZONE
END:VCALENDAR