BEGIN:VCALENDAR
VERSION:2.0
PRODID:-//wp-events-plugin.com//7.2.3.1//EN
TZID:America/Los_Angeles
X-WR-TIMEZONE:America/Los_Angeles
BEGIN:VEVENT
UID:246@santacruzflyfishing.org
DTSTART;TZID=America/Los_Angeles:20210512T183000
DTEND;TZID=America/Los_Angeles:20210512T203000
DTSTAMP:20210424T175022Z
URL:https://www.santacruzflyfishing.org/events/stillwater-nymph/
SUMMARY:Stillwater Nymph
DESCRIPTION:
ATTACH;FMTTYPE=image/jpeg:https://i0.wp.com/www.santacruzflyfishing.org/wp
 -content/uploads/2021/04/image3-scaled-e1619284534592.jpeg?fit=1062%2C921&
 ssl=1
CATEGORIES:Fly Tying Classes
END:VEVENT
BEGIN:VTIMEZONE
TZID:America/Los_Angeles
X-LIC-LOCATION:America/Los_Angeles
BEGIN:DAYLIGHT
DTSTART:20210314T030000
TZOFFSETFROM:-0800
TZOFFSETTO:-0700
TZNAME:PDT
END:DAYLIGHT
END:VTIMEZONE
END:VCALENDAR