BEGIN:VCALENDAR
VERSION:2.0
PRODID:-//wp-events-plugin.com//7.2.3.1//EN
TZID:America/Los_Angeles
X-WR-TIMEZONE:America/Los_Angeles
BEGIN:VEVENT
UID:696@santacruzflyfishing.org
DTSTART;TZID=America/Los_Angeles:20261113T000000
DTEND;TZID=America/Los_Angeles:20261115T000000
DTSTAMP:20260423T160131Z
URL:https://www.santacruzflyfishing.org/events/trinity-river-fishout-3/
SUMMARY:Trinity River Fishout
DESCRIPTION:Target:   Steelhead and trout.   Contact Alex Ferber if you ar
 e interested in going on the trip\, text Alex at (831) 419-0564  or alex.
 ferber74@gmail.com. 
ATTACH;FMTTYPE=image/jpeg:https://i0.wp.com/www.santacruzflyfishing.org/wp
 -content/uploads/2024/08/image.jpg?fit=480%2C360&ssl=1
CATEGORIES:Fishouts
END:VEVENT
BEGIN:VTIMEZONE
TZID:America/Los_Angeles
X-LIC-LOCATION:America/Los_Angeles
BEGIN:STANDARD
DTSTART:20261101T010000
TZOFFSETFROM:-0700
TZOFFSETTO:-0800
TZNAME:PST
END:STANDARD
END:VTIMEZONE
END:VCALENDAR